BEGIN:VCALENDAR
VERSION:2.0
PRODID:-//Fruitful Commons - ECPv6.15.18//NONSGML v1.0//EN
CALSCALE:GREGORIAN
METHOD:PUBLISH
X-ORIGINAL-URL:https://fruitfulcommons.org
X-WR-CALDESC:Events for Fruitful Commons
REFRESH-INTERVAL;VALUE=DURATION:PT1H
X-Robots-Tag:noindex
X-PUBLISHED-TTL:PT1H
BEGIN:VTIMEZONE
TZID:America/Chicago
BEGIN:DAYLIGHT
TZOFFSETFROM:-0600
TZOFFSETTO:-0500
TZNAME:CDT
DTSTART:20240310T080000
END:DAYLIGHT
BEGIN:STANDARD
TZOFFSETFROM:-0500
TZOFFSETTO:-0600
TZNAME:CST
DTSTART:20241103T070000
END:STANDARD
BEGIN:DAYLIGHT
TZOFFSETFROM:-0600
TZOFFSETTO:-0500
TZNAME:CDT
DTSTART:20250309T080000
END:DAYLIGHT
BEGIN:STANDARD
TZOFFSETFROM:-0500
TZOFFSETTO:-0600
TZNAME:CST
DTSTART:20251102T070000
END:STANDARD
BEGIN:DAYLIGHT
TZOFFSETFROM:-0600
TZOFFSETTO:-0500
TZNAME:CDT
DTSTART:20260308T080000
END:DAYLIGHT
BEGIN:STANDARD
TZOFFSETFROM:-0500
TZOFFSETTO:-0600
TZNAME:CST
DTSTART:20261101T070000
END:STANDARD
END:VTIMEZONE
BEGIN:VEVENT
DTSTART;TZID=America/Chicago:20250301T070000
DTEND;TZID=America/Chicago:20250301T090000
DTSTAMP:20260424T033737
CREATED:20250204T220646Z
LAST-MODIFIED:20250204T220703Z
UID:6592-1740812400-1740819600@fruitfulcommons.org
SUMMARY:Central Texas Seed Savers Talk and Plant/Seed Swap
DESCRIPTION:Central Texas Seed Savers Talk and Plant/Seed Swap \nSaturday\, March 1st\, 1-3 pm\nWindsor Park Public Library\n5833 Westminster Dr\, Austin\, TX 78723 \nJoin Central Texas Seed Savers for a talk on seed saving and a fun swap! Bring any seeds or plant cuttings you’d like to share.
URL:https://fruitfulcommons.org/event/central-texas-seed-savers-talk-and-plant-seed-swap/
LOCATION:Windsor Park Public Library\, 5833 Westminster Dr\,\, Austin\, TX\, 78723
ORGANIZER;CN="Central Texas Seed Savers":MAILTO:centexseedlibrary@gmail.com
END:VEVENT
END:VCALENDAR