BEGIN:VCALENDAR
VERSION:2.0
PRODID:-//Fruitful Commons - ECPv6.15.18//NONSGML v1.0//EN
CALSCALE:GREGORIAN
METHOD:PUBLISH
X-WR-CALNAME:Fruitful Commons
X-ORIGINAL-URL:https://fruitfulcommons.org
X-WR-CALDESC:Events for Fruitful Commons
REFRESH-INTERVAL;VALUE=DURATION:PT1H
X-Robots-Tag:noindex
X-PUBLISHED-TTL:PT1H
BEGIN:VTIMEZONE
TZID:America/Chicago
BEGIN:DAYLIGHT
TZOFFSETFROM:-0600
TZOFFSETTO:-0500
TZNAME:CDT
DTSTART:20240310T080000
END:DAYLIGHT
BEGIN:STANDARD
TZOFFSETFROM:-0500
TZOFFSETTO:-0600
TZNAME:CST
DTSTART:20241103T070000
END:STANDARD
BEGIN:DAYLIGHT
TZOFFSETFROM:-0600
TZOFFSETTO:-0500
TZNAME:CDT
DTSTART:20250309T080000
END:DAYLIGHT
BEGIN:STANDARD
TZOFFSETFROM:-0500
TZOFFSETTO:-0600
TZNAME:CST
DTSTART:20251102T070000
END:STANDARD
BEGIN:DAYLIGHT
TZOFFSETFROM:-0600
TZOFFSETTO:-0500
TZNAME:CDT
DTSTART:20260308T080000
END:DAYLIGHT
BEGIN:STANDARD
TZOFFSETFROM:-0500
TZOFFSETTO:-0600
TZNAME:CST
DTSTART:20261101T070000
END:STANDARD
END:VTIMEZONE
BEGIN:VEVENT
DTSTART;TZID=America/Chicago:20250308T030000
DTEND;TZID=America/Chicago:20250308T050000
DTSTAMP:20260424T033600
CREATED:20250304T043227Z
LAST-MODIFIED:20250304T044040Z
UID:6802-1741402800-1741410000@fruitfulcommons.org
SUMMARY:Garden Classes at St. John Faith Community Garden
DESCRIPTION:Spring Garden Classes\nLesson 1: Introduction to Gardening\nJeremy Peaches\, Prairie View A&M University\nMarch 8 \nMarch 8th-29th\, 9-11 am\n7501 Blessing Ave\, Austin\, 78752 \nSt. John Faith Community Garden is thrilled to announce an exciting new partnership with the Prairie View A&M University for this year’s garden classes! Get ready for expert-led sessions that will elevate your gardening skills and knowledge. Don’t miss out—sign up\, attend\, and dive into a fun and educational experience while connecting with fellowshipping. Let’s grow together! 🌱 \nPlease RSVP here
URL:https://fruitfulcommons.org/event/garden-classes-at-st-john-faith-community-garden/
LOCATION:St. John Faith Community Garden\, 7501 Blessing Ave\, Austin\, 78752
END:VEVENT
BEGIN:VEVENT
DTSTART;TZID=America/Chicago:20250308T030000
DTEND;TZID=America/Chicago:20250308T060000
DTSTAMP:20260424T033600
CREATED:20250204T221238Z
LAST-MODIFIED:20250204T221238Z
UID:6601-1741402800-1741413600@fruitfulcommons.org
SUMMARY:Second Saturday Workday at Festival Beach Food Forest
DESCRIPTION:What to expect:\nVolunteer days at FBFF involve various gardening and site maintenance activities that vary by season. Sometimes we are planting and sowing seeds\, sometimes we are spreading mulch\, working on pathways and irrigation\, pruning or cutting back vegetation\, etc. It’s always a beautiful day and a learning opportunity. Come prepared to be plugged in to a task by the FBFF Plant Team volunteers. \nWhat to bring:\n– Wear work clothes and sturdy closed-toe shoes\n– full water bottle\n– [optional] your own gardening gloves and tools\n– whatever weather protection is needed that day (sun protection\, a rain jacket\, etc.)\n– whatever else you need to be safe and satisfied (snacks\, medication\, EpiPen\, etc) \nPlant Team Volunteers often stay after the work day to unwind and socialize in the park for a bit — you are welcome to join\, and might consider packing a lunch or a cooler (no glass).
URL:https://fruitfulcommons.org/event/second-saturday-workday-at-festival-beach-food-forest-3/
LOCATION:Festival Beach Food Forest\, 29 Waller St\, Austin\, TX\, 78702\, United States
CATEGORIES:Festival Beach Food Forest Events
ORGANIZER;CN="Festival Beach Food Forest":MAILTO:contact@festivalbeach.org
END:VEVENT
BEGIN:VEVENT
DTSTART;TZID=America/Chicago:20250308T040000
DTEND;TZID=America/Chicago:20250308T110000
DTSTAMP:20260424T033600
CREATED:20250221T014820Z
LAST-MODIFIED:20250221T014820Z
UID:6667-1741406400-1741431600@fruitfulcommons.org
SUMMARY:Fertile Foods 3rd Tree Permablitz Community Collaboration
DESCRIPTION:Join us in community for a day of gardening and permaculture activities. \nIncreasingly popular hands-on free tree planting event establishing a new 23 acre off-grid food forest with educational speakers sharing their passions about sustainability & regeneration. Coming together with unique people to make a difference that’s tangible and impacting our environment. Planting trees\, free lunch\, compost tea\, spent mushroom blocks\, rain harvesting\, & mingling. A great place to connect with like minded individuals Host: Desmond Slattery Lowe – Fertile Foods \nGuest Presenters & Speakers\nSpeaker: Jesus Garcia HerbalActionProject\nSpeaker: Kirby Fry  Southern Exposure\nSpeaker: Megan McFarland of Coyote Herbs\nSpeaker: FigBeard \nDate: Sat Mar 08 2025\nTime: 10:00 AM\nLocation: 680 Myers Creek Rd\, Dripping Springs TX\nFamily Friendly Event \nPlease RSVP
URL:https://fruitfulcommons.org/event/fertile-foods-3rd-tree-permablitz-community-collaboration/
LOCATION:Fertile Foods\, 680 Myers Creek Rd\, Dripping Springs\, TX\, 78620
ORGANIZER;CN="Fertile Foods":MAILTO:FertileFoodsOfficial@gmail.com
END:VEVENT
BEGIN:VEVENT
DTSTART;TZID=America/Chicago:20250308T070000
DTEND;TZID=America/Chicago:20250308T100000
DTSTAMP:20260424T033600
CREATED:20250304T043317Z
LAST-MODIFIED:20250304T043317Z
UID:6642-1741417200-1741428000@fruitfulcommons.org
SUMMARY:Farmshare Austin's Spring 2025 Plant Sale
DESCRIPTION:Farmshare Austin is selling certified organic transplants in 4″ pots at $4 each. Visit the farm and shop a diverse selection of certified organic vegetable and herb transplants\, including swiss chard\, tomatoes\, peppers\, eggplants\, flowers\, herbs and more! \nEnjoy a self-guided tour\, kid-friendly crafts and light refreshments and snacks. \nProceeds directly support Farmshare’s beginning farmer training and community food access. SNAP and Double Up Food Bucks are accepted for transplant purchases. \n 
URL:https://fruitfulcommons.org/event/farmshare-austins-spring-2025-plant-sale/
LOCATION:Farmshare\, 3608 River Rd\, Cedar Creek\, TX\, 78612\, United States
END:VEVENT
BEGIN:VEVENT
DTSTART;TZID=America/Chicago:20250308T100000
DTEND;TZID=America/Chicago:20250308T120000
DTSTAMP:20260424T033600
CREATED:20250221T014127Z
LAST-MODIFIED:20250221T014127Z
UID:6655-1741428000-1741435200@fruitfulcommons.org
SUMMARY:Grand Meadow Community Garden and Food Forest Design Gathering #1
DESCRIPTION:Join us as we co-create our new community hub! \n\n\n\n\n\n\nYou’re invited to Grand Meadow Park to see the draft designs for our community garden and food forest and help us envision how the spaces will be used and what features to build and what trees and plants we want to plant! We will have maps available for capturing your ideas for the space. Meet with our team and learn about permaculture\, food forestry\, and other skills we will learn together as a group through this project. \nFood and drinks will be provided! \nThis event is free and open for all to attend! Spanish interpretation will be available. \nA second event will be schedule to reveal the final draft of the food forest and community garden designs and discuss next steps in building our new community hub! \nTo sign up to be a volunteer or to join our leadership team\, fill out this short survey!
URL:https://fruitfulcommons.org/event/grand-meadow-community-garden-and-food-forest-design-gathering-1/
LOCATION:Grand Meadow Neighborhood Park\, 8022 Thaxton\, Austin\, TX\, 78747\, United States
ORGANIZER;CN="Friends of Grand Meadow Park":MAILTO:grandmeadowparkproject@gmail.com
END:VEVENT
END:VCALENDAR