BEGIN:VCALENDAR
VERSION:2.0
PRODID:-//Fruitful Commons - ECPv6.15.18//NONSGML v1.0//EN
CALSCALE:GREGORIAN
METHOD:PUBLISH
X-WR-CALNAME:Fruitful Commons
X-ORIGINAL-URL:https://fruitfulcommons.org
X-WR-CALDESC:Events for Fruitful Commons
REFRESH-INTERVAL;VALUE=DURATION:PT1H
X-Robots-Tag:noindex
X-PUBLISHED-TTL:PT1H
BEGIN:VTIMEZONE
TZID:America/Chicago
BEGIN:DAYLIGHT
TZOFFSETFROM:-0600
TZOFFSETTO:-0500
TZNAME:CDT
DTSTART:20240310T080000
END:DAYLIGHT
BEGIN:STANDARD
TZOFFSETFROM:-0500
TZOFFSETTO:-0600
TZNAME:CST
DTSTART:20241103T070000
END:STANDARD
BEGIN:DAYLIGHT
TZOFFSETFROM:-0600
TZOFFSETTO:-0500
TZNAME:CDT
DTSTART:20250309T080000
END:DAYLIGHT
BEGIN:STANDARD
TZOFFSETFROM:-0500
TZOFFSETTO:-0600
TZNAME:CST
DTSTART:20251102T070000
END:STANDARD
BEGIN:DAYLIGHT
TZOFFSETFROM:-0600
TZOFFSETTO:-0500
TZNAME:CDT
DTSTART:20260308T080000
END:DAYLIGHT
BEGIN:STANDARD
TZOFFSETFROM:-0500
TZOFFSETTO:-0600
TZNAME:CST
DTSTART:20261101T070000
END:STANDARD
END:VTIMEZONE
BEGIN:VEVENT
DTSTART;TZID=America/Chicago:20250315T040000
DTEND;TZID=America/Chicago:20250315T060000
DTSTAMP:20260424T033607
CREATED:20250304T043427Z
LAST-MODIFIED:20250304T043849Z
UID:6814-1742011200-1742018400@fruitfulcommons.org
SUMMARY:Garden Classes at St. John Faith Community Garden
DESCRIPTION:Spring Garden Classes\nLesson 2: Soil Testing and Interpretation\nDr. Peter Ampim\, Prairie View A&M University\nMarch 15 \nMarch 8th-29th\, 9-11 am\n7501 Blessing Ave\, Austin\, 78752 \nSt. John Faith Community Garden is thrilled to announce an exciting new partnership with the Prairie View A&M University for this year’s garden classes! Get ready for expert-led sessions that will elevate your gardening skills and knowledge. Don’t miss out—sign up\, attend\, and dive into a fun and educational experience while connecting with fellowshipping. Let’s grow together! 🌱 \nPlease RSVP here \n \n 
URL:https://fruitfulcommons.org/event/garden-classes-at-st-john-faith-community-garden-2/
LOCATION:St. John Faith Community Garden\, 7501 Blessing Ave\, Austin\, 78752
END:VEVENT
BEGIN:VEVENT
DTSTART;TZID=America/Chicago:20250315T050000
DTEND;TZID=America/Chicago:20250315T090000
DTSTAMP:20260424T033607
CREATED:20250304T041851Z
LAST-MODIFIED:20250304T041851Z
UID:6792-1742014800-1742029200@fruitfulcommons.org
SUMMARY:Of The Health Healing-Free Garden Planter and Seed Swap!
DESCRIPTION:Free Garden Planter and Seed Swap!\nMarch 15th\, 10 am-2 pm\n4926 E Cesar Chavez\, Austin\, TX 78702 \nPlease join Of The Earth Healing on March 15th and March 16th for a planter giveaway. Thanks to Big Green and H-E-B\, they will have 20″ planters and plants to give to the community to help start their own gardens. They will also be having a seed swap so bring your seeds to share! \nThey have limpias and card readings for $20 donations. \nPlease reach out to evie@oftheearthhealing.org with questions.
URL:https://fruitfulcommons.org/event/of-the-health-healing-free-garden-planter-and-seed-swap/
LOCATION:TX
ORGANIZER;CN="Of The Earth Healing":MAILTO:Marika@oftheearthhealing.org
END:VEVENT
END:VCALENDAR