BEGIN:VCALENDAR
VERSION:2.0
PRODID:-//Fruitful Commons - ECPv6.15.18//NONSGML v1.0//EN
CALSCALE:GREGORIAN
METHOD:PUBLISH
X-WR-CALNAME:Fruitful Commons
X-ORIGINAL-URL:https://fruitfulcommons.org
X-WR-CALDESC:Events for Fruitful Commons
REFRESH-INTERVAL;VALUE=DURATION:PT1H
X-Robots-Tag:noindex
X-PUBLISHED-TTL:PT1H
BEGIN:VTIMEZONE
TZID:America/Chicago
BEGIN:DAYLIGHT
TZOFFSETFROM:-0600
TZOFFSETTO:-0500
TZNAME:CDT
DTSTART:20240310T080000
END:DAYLIGHT
BEGIN:STANDARD
TZOFFSETFROM:-0500
TZOFFSETTO:-0600
TZNAME:CST
DTSTART:20241103T070000
END:STANDARD
BEGIN:DAYLIGHT
TZOFFSETFROM:-0600
TZOFFSETTO:-0500
TZNAME:CDT
DTSTART:20250309T080000
END:DAYLIGHT
BEGIN:STANDARD
TZOFFSETFROM:-0500
TZOFFSETTO:-0600
TZNAME:CST
DTSTART:20251102T070000
END:STANDARD
BEGIN:DAYLIGHT
TZOFFSETFROM:-0600
TZOFFSETTO:-0500
TZNAME:CDT
DTSTART:20260308T080000
END:DAYLIGHT
BEGIN:STANDARD
TZOFFSETFROM:-0500
TZOFFSETTO:-0600
TZNAME:CST
DTSTART:20261101T070000
END:STANDARD
END:VTIMEZONE
BEGIN:VEVENT
DTSTART;TZID=America/Chicago:20250316T050000
DTEND;TZID=America/Chicago:20250316T090000
DTSTAMP:20260424T033554
CREATED:20250304T041958Z
LAST-MODIFIED:20250304T041958Z
UID:6800-1742101200-1742115600@fruitfulcommons.org
SUMMARY:Of The Health Healing-Free Garden Planter and Seed Swap!
DESCRIPTION:Free Garden Planter and Seed Swap!\nMarch 16th\, 10 am-2 pm\n4926 E Cesar Chavez\, Austin\, TX 78702 \nPlease join Of The Earth Healing on March 15th and March 16th for a planter giveaway. Thanks to Big Green and H-E-B\, they will have 20″ planters and plants to give to the community to help start their own gardens. They will also be having a seed swap so bring your seeds to share! \nThey have limpias and card readings for $20 donations. \nPlease reach out to evie@oftheearthhealing.org with questions.
URL:https://fruitfulcommons.org/event/of-the-health-healing-free-garden-planter-and-seed-swap-2/
LOCATION:TX
ORGANIZER;CN="Of The Earth Healing":MAILTO:Marika@oftheearthhealing.org
END:VEVENT
END:VCALENDAR