BEGIN:VCALENDAR
VERSION:2.0
PRODID:-//Fruitful Commons - ECPv6.15.18//NONSGML v1.0//EN
CALSCALE:GREGORIAN
METHOD:PUBLISH
X-WR-CALNAME:Fruitful Commons
X-ORIGINAL-URL:https://fruitfulcommons.org
X-WR-CALDESC:Events for Fruitful Commons
REFRESH-INTERVAL;VALUE=DURATION:PT1H
X-Robots-Tag:noindex
X-PUBLISHED-TTL:PT1H
BEGIN:VTIMEZONE
TZID:America/Chicago
BEGIN:DAYLIGHT
TZOFFSETFROM:-0600
TZOFFSETTO:-0500
TZNAME:CDT
DTSTART:20240310T080000
END:DAYLIGHT
BEGIN:STANDARD
TZOFFSETFROM:-0500
TZOFFSETTO:-0600
TZNAME:CST
DTSTART:20241103T070000
END:STANDARD
BEGIN:DAYLIGHT
TZOFFSETFROM:-0600
TZOFFSETTO:-0500
TZNAME:CDT
DTSTART:20250309T080000
END:DAYLIGHT
BEGIN:STANDARD
TZOFFSETFROM:-0500
TZOFFSETTO:-0600
TZNAME:CST
DTSTART:20251102T070000
END:STANDARD
BEGIN:DAYLIGHT
TZOFFSETFROM:-0600
TZOFFSETTO:-0500
TZNAME:CDT
DTSTART:20260308T080000
END:DAYLIGHT
BEGIN:STANDARD
TZOFFSETFROM:-0500
TZOFFSETTO:-0600
TZNAME:CST
DTSTART:20261101T070000
END:STANDARD
END:VTIMEZONE
BEGIN:VEVENT
DTSTART;TZID=America/Chicago:20250329T040000
DTEND;TZID=America/Chicago:20250329T060000
DTSTAMP:20260424T033450
CREATED:20250304T043744Z
LAST-MODIFIED:20250304T043744Z
UID:6820-1743220800-1743228000@fruitfulcommons.org
SUMMARY:Garden Classes at St. John Faith Community Garden
DESCRIPTION:Spring Garden Classes\nLesson 4: Watering and Irrigation\nJustin Duncan\, NCAT\nMarch 29 \nMarch 8th-29th\, 9-11 am\n7501 Blessing Ave\, Austin\, 78752 \nSt. John Faith Community Garden is thrilled to announce an exciting new partnership with the Prairie View A&M University for this year’s garden classes! Get ready for expert-led sessions that will elevate your gardening skills and knowledge. Don’t miss out—sign up\, attend\, and dive into a fun and educational experience while connecting with fellowshipping. Let’s grow together! 🌱 \nPlease RSVP here \n \n 
URL:https://fruitfulcommons.org/event/garden-classes-at-st-john-faith-community-garden-4/
LOCATION:St. John Faith Community Garden\, 7501 Blessing Ave\, Austin\, 78752
END:VEVENT
END:VCALENDAR