BEGIN:VCALENDAR
VERSION:2.0
PRODID:-//Fruitful Commons - ECPv6.15.18//NONSGML v1.0//EN
CALSCALE:GREGORIAN
METHOD:PUBLISH
X-ORIGINAL-URL:https://fruitfulcommons.org
X-WR-CALDESC:Events for Fruitful Commons
REFRESH-INTERVAL;VALUE=DURATION:PT1H
X-Robots-Tag:noindex
X-PUBLISHED-TTL:PT1H
BEGIN:VTIMEZONE
TZID:America/Chicago
BEGIN:DAYLIGHT
TZOFFSETFROM:-0600
TZOFFSETTO:-0500
TZNAME:CDT
DTSTART:20240310T080000
END:DAYLIGHT
BEGIN:STANDARD
TZOFFSETFROM:-0500
TZOFFSETTO:-0600
TZNAME:CST
DTSTART:20241103T070000
END:STANDARD
BEGIN:DAYLIGHT
TZOFFSETFROM:-0600
TZOFFSETTO:-0500
TZNAME:CDT
DTSTART:20250309T080000
END:DAYLIGHT
BEGIN:STANDARD
TZOFFSETFROM:-0500
TZOFFSETTO:-0600
TZNAME:CST
DTSTART:20251102T070000
END:STANDARD
BEGIN:DAYLIGHT
TZOFFSETFROM:-0600
TZOFFSETTO:-0500
TZNAME:CDT
DTSTART:20260308T080000
END:DAYLIGHT
BEGIN:STANDARD
TZOFFSETFROM:-0500
TZOFFSETTO:-0600
TZNAME:CST
DTSTART:20261101T070000
END:STANDARD
END:VTIMEZONE
BEGIN:VEVENT
DTSTART;TZID=America/Chicago:20250512T073000
DTEND;TZID=America/Chicago:20250512T090000
DTSTAMP:20260424T003214
CREATED:20250429T204135Z
LAST-MODIFIED:20250429T204135Z
UID:6908-1747035000-1747040400@fruitfulcommons.org
SUMMARY:Seed Gathering
DESCRIPTION:Seed Gathering \nJoin the Austin Public Library and Central Texas Seed Savers to share your passion for seed saving\, gardening and sustainable living. Bring your own seeds to share or help us process donations for the Seed Collection to keep it growing. \nMonday\, April 14th\nAustin Central Library\n710 W Cesar Chavez st\, Austin\, TX 78701
URL:https://fruitfulcommons.org/event/seed-gathering-3/
LOCATION:TX
ORGANIZER;CN="Central Texas Seed Savers":MAILTO:centexseedlibrary@gmail.com
END:VEVENT
END:VCALENDAR