BEGIN:VCALENDAR
VERSION:2.0
PRODID:-//Fruitful Commons - ECPv6.15.18//NONSGML v1.0//EN
CALSCALE:GREGORIAN
METHOD:PUBLISH
X-WR-CALNAME:Fruitful Commons
X-ORIGINAL-URL:https://fruitfulcommons.org
X-WR-CALDESC:Events for Fruitful Commons
REFRESH-INTERVAL;VALUE=DURATION:PT1H
X-Robots-Tag:noindex
X-PUBLISHED-TTL:PT1H
BEGIN:VTIMEZONE
TZID:America/Chicago
BEGIN:DAYLIGHT
TZOFFSETFROM:-0600
TZOFFSETTO:-0500
TZNAME:CDT
DTSTART:20240310T080000
END:DAYLIGHT
BEGIN:STANDARD
TZOFFSETFROM:-0500
TZOFFSETTO:-0600
TZNAME:CST
DTSTART:20241103T070000
END:STANDARD
BEGIN:DAYLIGHT
TZOFFSETFROM:-0600
TZOFFSETTO:-0500
TZNAME:CDT
DTSTART:20250309T080000
END:DAYLIGHT
BEGIN:STANDARD
TZOFFSETFROM:-0500
TZOFFSETTO:-0600
TZNAME:CST
DTSTART:20251102T070000
END:STANDARD
BEGIN:DAYLIGHT
TZOFFSETFROM:-0600
TZOFFSETTO:-0500
TZNAME:CDT
DTSTART:20260308T080000
END:DAYLIGHT
BEGIN:STANDARD
TZOFFSETFROM:-0500
TZOFFSETTO:-0600
TZNAME:CST
DTSTART:20261101T070000
END:STANDARD
END:VTIMEZONE
BEGIN:VEVENT
DTSTART;TZID=America/Chicago:20250629T043000
DTEND;TZID=America/Chicago:20250629T060000
DTSTAMP:20260423T213034
CREATED:20250605T000454Z
LAST-MODIFIED:20250605T000454Z
UID:6970-1751171400-1751176800@fruitfulcommons.org
SUMMARY:Grand Meadow Community Garden and Food Forest Design Feedback Gathering
DESCRIPTION:Join the Friends of Grand Meadow community as they co-create our new community hub! \n\n\n\n\n\n\nYou’re invited to Grand Meadow Park to see the draft designs for our community garden and food forest and help us envision how the spaces will be used and what features to build! We have a survey available now to gather opinions from our community on the community garden\, food forest\, and play area spaces. If you haven’t already\, please fill out the survey linked below. And then at this event we will discuss the results from our community’s voices! \nFood and Play Spaces Survey \nMeet with our team and learn about permaculture\, food forestry\, and other skills we will learn together as a group through this project. \n\nFree snacks and beverages will be provided!\nLearn about permaculture!\nFree seeds!\n\nPlease RSVP here! \nTo sign up to be a volunteer or to join our leadership team\, fill out this short survey!
URL:https://fruitfulcommons.org/event/grand-meadow-community-garden-and-food-forest-design-feedback-gathering/
LOCATION:Grand Meadow Neighborhood Park\, 8022 Thaxton\, Austin\, TX\, 78747\, United States
ORGANIZER;CN="Friends of Grand Meadow Park":MAILTO:grandmeadowparkproject@gmail.com
END:VEVENT
END:VCALENDAR