BEGIN:VCALENDAR
VERSION:2.0
PRODID:-//Fruitful Commons - ECPv6.15.18//NONSGML v1.0//EN
CALSCALE:GREGORIAN
METHOD:PUBLISH
X-WR-CALNAME:Fruitful Commons
X-ORIGINAL-URL:https://fruitfulcommons.org
X-WR-CALDESC:Events for Fruitful Commons
REFRESH-INTERVAL;VALUE=DURATION:PT1H
X-Robots-Tag:noindex
X-PUBLISHED-TTL:PT1H
BEGIN:VTIMEZONE
TZID:America/Chicago
BEGIN:DAYLIGHT
TZOFFSETFROM:-0600
TZOFFSETTO:-0500
TZNAME:CDT
DTSTART:20240310T080000
END:DAYLIGHT
BEGIN:STANDARD
TZOFFSETFROM:-0500
TZOFFSETTO:-0600
TZNAME:CST
DTSTART:20241103T070000
END:STANDARD
BEGIN:DAYLIGHT
TZOFFSETFROM:-0600
TZOFFSETTO:-0500
TZNAME:CDT
DTSTART:20250309T080000
END:DAYLIGHT
BEGIN:STANDARD
TZOFFSETFROM:-0500
TZOFFSETTO:-0600
TZNAME:CST
DTSTART:20251102T070000
END:STANDARD
BEGIN:DAYLIGHT
TZOFFSETFROM:-0600
TZOFFSETTO:-0500
TZNAME:CDT
DTSTART:20260308T080000
END:DAYLIGHT
BEGIN:STANDARD
TZOFFSETFROM:-0500
TZOFFSETTO:-0600
TZNAME:CST
DTSTART:20261101T070000
END:STANDARD
END:VTIMEZONE
BEGIN:VEVENT
DTSTART;TZID=America/Chicago:20250828T030000
DTEND;TZID=America/Chicago:20250828T060000
DTSTAMP:20260424T093536
CREATED:20250708T213551Z
LAST-MODIFIED:20250708T213551Z
UID:7090-1756350000-1756360800@fruitfulcommons.org
SUMMARY:FBFF-Morning Garden Workday
DESCRIPTION:Event Details\n\nMorning Garden Workday – Festival Beach Food Forest\nHelp us keep the Food Forest vibrant and healthy at our weekly workdays! Come join a small group of food-forest-friends who love to leave the screens behind and put their hands in the dirt. \nPlease bring: \n\nwater\nsturdy shoes\ncomfortable loose fitting clothes\nhat for shade\n\nGloves will be provided. We can’t wait to see you in the Food Forest! (Having trouble with the RSVP? That’s okay\, you’re still welcome to join!) \n\n\n\nAddress\n29 Waller Street\, Austin\, Texas 78702
URL:https://fruitfulcommons.org/event/fbff-morning-garden-workday-63/
LOCATION:Festival Beach Food Forest\, 29 Waller St\, Austin\, TX\, 78702\, United States
CATEGORIES:Festival Beach Food Forest Events
ORGANIZER;CN="Festival Beach Food Forest":MAILTO:contact@festivalbeach.org
END:VEVENT
BEGIN:VEVENT
DTSTART;TZID=America/Chicago:20250828T030000
DTEND;TZID=America/Chicago:20250828T120000
DTSTAMP:20260424T093536
CREATED:20250913T150030Z
LAST-MODIFIED:20250829T194914Z
UID:7179-1756350000-1756382400@fruitfulcommons.org
SUMMARY:Free Community Seed Swap!
DESCRIPTION:Community Seed Share Event FlierFree Community Seed Swap!\nSeptember 13\, 2025\nTurner Roberts Recreation Center 7201 Colony Loop Dr.\, Austin\, TX 78724\n**Educational content offered in Spanish and English\n***Seed Saving handouts available in English\, Spanish\, & Mandarin \n10 AM – 11 AM Lecture on Local Climate Adapted Crop Varieties** \n10 AM – 2 PM – Seed Swap (if you have seeds\, bring them to share) \nCooking Demos: Registration required (20 max) 12 – 12:45 Cooking Demo ** 1 – 1:45 Cooking Demo** \nSeed Saving Workshops: Registration required (30 max) 12 – 12:45 Seed Saving Workshop ** 1 – 1:45 Seed Saving Workshop** \nPlease RSVP here \n 
URL:https://fruitfulcommons.org/event/free-community-seed-swap/
LOCATION:TX
END:VEVENT
END:VCALENDAR