BEGIN:VCALENDAR
VERSION:2.0
PRODID:-//Fruitful Commons - ECPv6.15.18//NONSGML v1.0//EN
CALSCALE:GREGORIAN
METHOD:PUBLISH
X-WR-CALNAME:Fruitful Commons
X-ORIGINAL-URL:https://fruitfulcommons.org
X-WR-CALDESC:Events for Fruitful Commons
REFRESH-INTERVAL;VALUE=DURATION:PT1H
X-Robots-Tag:noindex
X-PUBLISHED-TTL:PT1H
BEGIN:VTIMEZONE
TZID:America/Chicago
BEGIN:DAYLIGHT
TZOFFSETFROM:-0600
TZOFFSETTO:-0500
TZNAME:CDT
DTSTART:20240310T080000
END:DAYLIGHT
BEGIN:STANDARD
TZOFFSETFROM:-0500
TZOFFSETTO:-0600
TZNAME:CST
DTSTART:20241103T070000
END:STANDARD
BEGIN:DAYLIGHT
TZOFFSETFROM:-0600
TZOFFSETTO:-0500
TZNAME:CDT
DTSTART:20250309T080000
END:DAYLIGHT
BEGIN:STANDARD
TZOFFSETFROM:-0500
TZOFFSETTO:-0600
TZNAME:CST
DTSTART:20251102T070000
END:STANDARD
BEGIN:DAYLIGHT
TZOFFSETFROM:-0600
TZOFFSETTO:-0500
TZNAME:CDT
DTSTART:20260308T080000
END:DAYLIGHT
BEGIN:STANDARD
TZOFFSETFROM:-0500
TZOFFSETTO:-0600
TZNAME:CST
DTSTART:20261101T070000
END:STANDARD
END:VTIMEZONE
BEGIN:VEVENT
DTSTART;TZID=America/Chicago:20250913T050000
DTEND;TZID=America/Chicago:20250913T090000
DTSTAMP:20260424T093536
CREATED:20250908T225548Z
LAST-MODIFIED:20250908T225601Z
UID:7187-1757739600-1757754000@fruitfulcommons.org
SUMMARY:Free Community Seed Swap!
DESCRIPTION:Free Community Seed Swap!September 13\, 2025Turner Roberts Recreation Center 7201 Colony Loop Dr.\, Austin\, TX 78724\n**Educational content offered in Spanish and English***Seed Saving handouts available in English\, Spanish\, & Mandarin \n10 AM – 11 AM Lecture on Local Climate Adapted Crop Varieties** \n10 AM – 2 PM – Seed Swap (if you have seeds\, bring them to share) \nCooking Demos: Registration required (20 max) 12 – 12:45 Cooking Demo ** 1 – 1:45 Cooking Demo** \nSeed Saving Workshops: Registration required (30 max) 12 – 12:45 Seed Saving Workshop ** 1 – 1:45 Seed Saving Workshop** \nPlease RSVP here \n 
URL:https://fruitfulcommons.org/event/free-community-seed-swap-2/
LOCATION:TX
END:VEVENT
END:VCALENDAR