BEGIN:VCALENDAR
VERSION:2.0
PRODID:-//Fruitful Commons - ECPv6.15.18//NONSGML v1.0//EN
CALSCALE:GREGORIAN
METHOD:PUBLISH
X-WR-CALNAME:Fruitful Commons
X-ORIGINAL-URL:https://fruitfulcommons.org
X-WR-CALDESC:Events for Fruitful Commons
REFRESH-INTERVAL;VALUE=DURATION:PT1H
X-Robots-Tag:noindex
X-PUBLISHED-TTL:PT1H
BEGIN:VTIMEZONE
TZID:America/Chicago
BEGIN:DAYLIGHT
TZOFFSETFROM:-0600
TZOFFSETTO:-0500
TZNAME:CDT
DTSTART:20240310T080000
END:DAYLIGHT
BEGIN:STANDARD
TZOFFSETFROM:-0500
TZOFFSETTO:-0600
TZNAME:CST
DTSTART:20241103T070000
END:STANDARD
BEGIN:DAYLIGHT
TZOFFSETFROM:-0600
TZOFFSETTO:-0500
TZNAME:CDT
DTSTART:20250309T080000
END:DAYLIGHT
BEGIN:STANDARD
TZOFFSETFROM:-0500
TZOFFSETTO:-0600
TZNAME:CST
DTSTART:20251102T070000
END:STANDARD
BEGIN:DAYLIGHT
TZOFFSETFROM:-0600
TZOFFSETTO:-0500
TZNAME:CDT
DTSTART:20260308T080000
END:DAYLIGHT
BEGIN:STANDARD
TZOFFSETFROM:-0500
TZOFFSETTO:-0600
TZNAME:CST
DTSTART:20261101T070000
END:STANDARD
END:VTIMEZONE
BEGIN:VEVENT
DTSTART;TZID=America/Chicago:20250830T050000
DTEND;TZID=America/Chicago:20250830T070000
DTSTAMP:20260424T093536
CREATED:20250815T120440Z
LAST-MODIFIED:20250815T120440Z
UID:7147-1756530000-1756537200@fruitfulcommons.org
SUMMARY:Grand Meadow Groundbreaking Ceremony
DESCRIPTION:Celebrate this neighborhood milestone with us! \nIt’s been four years since Friends of Grand Meadow formed to dream\, plan\, and engage our neighbors about creating a food forest and community garden at our park. \nNow\, thanks to years of vision\, hard work\, and partnership\, construction at Grand Meadow Park is set to begin soon and we’re throwing a party tomark this long-awaited milestone! \nBring your friends\, family\, and neighbors for a day of food\, fun\, and festivities: \n🌮 Food provided by Austin Parks Foundation\n🍪 Bake Sale supporting future park programming – please bring individually wrapped baked goods to support the park\n🎨 Kids’ activities \nWe want to thank all who helped bring us to this point. It’s been over 20 years since the very first community conversations about bringing a park to our neighborhood. Many neighbors have advocated for a park over the years. In the last four years we have partnered with Fruitful Commons for fiscal sponsorship\, the City of Austin Community Garden Department for support with the garden permit\, and Austin Parks Foundation. We are immensely grateful that APF chose our park for Overall Park Planning services and helped us create a concept plan that reflects the values and desires of our community. They have gone a huge step forward and are now facilitating building the first phase of that plan!! Once this first phase is completed\, we can begin building and planting our community garden and food forest. \nPlease RSVP so we can know how much food and beverages to bring. And please forward this invitation to anyone who may be interested in attending! \nDetails \nSaturday\, August 30th\, 2025\nGrand Meadow Park\n8022 Thaxton Rd\, Austin\, TX 78747
URL:https://fruitfulcommons.org/event/grand-meadow-groundbreaking-ceremony/
LOCATION:Grand Meadow Neighborhood Park\, 8022 Thaxton\, Austin\, TX\, 78747\, United States
ORGANIZER;CN="Friends of Grand Meadow Park":MAILTO:grandmeadowparkproject@gmail.com
END:VEVENT
END:VCALENDAR