BEGIN:VCALENDAR
VERSION:2.0
PRODID:-//Fruitful Commons - ECPv6.15.18//NONSGML v1.0//EN
CALSCALE:GREGORIAN
METHOD:PUBLISH
X-WR-CALNAME:Fruitful Commons
X-ORIGINAL-URL:https://fruitfulcommons.org
X-WR-CALDESC:Events for Fruitful Commons
REFRESH-INTERVAL;VALUE=DURATION:PT1H
X-Robots-Tag:noindex
X-PUBLISHED-TTL:PT1H
BEGIN:VTIMEZONE
TZID:America/Chicago
BEGIN:DAYLIGHT
TZOFFSETFROM:-0600
TZOFFSETTO:-0500
TZNAME:CDT
DTSTART:20240310T080000
END:DAYLIGHT
BEGIN:STANDARD
TZOFFSETFROM:-0500
TZOFFSETTO:-0600
TZNAME:CST
DTSTART:20241103T070000
END:STANDARD
BEGIN:DAYLIGHT
TZOFFSETFROM:-0600
TZOFFSETTO:-0500
TZNAME:CDT
DTSTART:20250309T080000
END:DAYLIGHT
BEGIN:STANDARD
TZOFFSETFROM:-0500
TZOFFSETTO:-0600
TZNAME:CST
DTSTART:20251102T070000
END:STANDARD
BEGIN:DAYLIGHT
TZOFFSETFROM:-0600
TZOFFSETTO:-0500
TZNAME:CDT
DTSTART:20260308T080000
END:DAYLIGHT
BEGIN:STANDARD
TZOFFSETFROM:-0500
TZOFFSETTO:-0600
TZNAME:CST
DTSTART:20261101T070000
END:STANDARD
END:VTIMEZONE
BEGIN:VEVENT
DTSTART;TZID=America/Chicago:20250908T073000
DTEND;TZID=America/Chicago:20250908T090000
DTSTAMP:20260423T184757
CREATED:20250828T203919Z
LAST-MODIFIED:20250828T203919Z
UID:7150-1757316600-1757322000@fruitfulcommons.org
SUMMARY:Monthly CTSS Seed Gathering
DESCRIPTION:The Seed Collection has taken root! \nThe Central Texas Seed Savers and the Austin Public Library are committed to supporting the local environment and community by sharing seeds and related knowledge through our programming and circulating collection. We believe that seeds are nutritional and historical suitcases which contain the potential for both physical and cultural sustenance. Seed collections like ours are intended to promote sustainability\, self-sufficiency\, food security and interpersonal exchange. \nHow does it work? \nBrowse the drawers\, check out up to four seed packets per visit and record them on our checkout clipboard on top of the catalog cabinet. When you have extra seeds\, keep the spirit alive with a donation. Fill out a form from drawer 19\, and place it with the donation in drawer 20. If needed\, you can find seed envelopes in drawer 21. The Seed Collection relies upon your contributions to keep it growing. \nJoin us for our next Seed Gathering on Monday\, 9/8\, at 12:30 pm on the 6th floor NW. \nBeginner to experienced attendees welcome! \n\nMonday\, July 14  – 12:30 PM to 2:00 PM\nCentral Library\n710 W. César Chávez St.\nFree and open to the public | Gratis y abierto al público\nFor accessibility accommodations: 512-974-7400\nPresented by the Austin Public Library in partnership with:
URL:https://fruitfulcommons.org/event/monthly-ctss-seed-gathering-3/
LOCATION:TX
ORGANIZER;CN="Central Texas Seed Savers":MAILTO:centexseedlibrary@gmail.com
END:VEVENT
END:VCALENDAR