BEGIN:VCALENDAR
VERSION:2.0
PRODID:-//Fruitful Commons - ECPv6.15.18//NONSGML v1.0//EN
CALSCALE:GREGORIAN
METHOD:PUBLISH
X-WR-CALNAME:Fruitful Commons
X-ORIGINAL-URL:https://fruitfulcommons.org
X-WR-CALDESC:Events for Fruitful Commons
REFRESH-INTERVAL;VALUE=DURATION:PT1H
X-Robots-Tag:noindex
X-PUBLISHED-TTL:PT1H
BEGIN:VTIMEZONE
TZID:America/Chicago
BEGIN:DAYLIGHT
TZOFFSETFROM:-0600
TZOFFSETTO:-0500
TZNAME:CDT
DTSTART:20250309T080000
END:DAYLIGHT
BEGIN:STANDARD
TZOFFSETFROM:-0500
TZOFFSETTO:-0600
TZNAME:CST
DTSTART:20251102T070000
END:STANDARD
BEGIN:DAYLIGHT
TZOFFSETFROM:-0600
TZOFFSETTO:-0500
TZNAME:CDT
DTSTART:20260308T080000
END:DAYLIGHT
BEGIN:STANDARD
TZOFFSETFROM:-0500
TZOFFSETTO:-0600
TZNAME:CST
DTSTART:20261101T070000
END:STANDARD
BEGIN:DAYLIGHT
TZOFFSETFROM:-0600
TZOFFSETTO:-0500
TZNAME:CDT
DTSTART:20270314T080000
END:DAYLIGHT
BEGIN:STANDARD
TZOFFSETFROM:-0500
TZOFFSETTO:-0600
TZNAME:CST
DTSTART:20271107T070000
END:STANDARD
END:VTIMEZONE
BEGIN:VEVENT
DTSTART;TZID=America/Chicago:20260228T100000
DTEND;TZID=America/Chicago:20260228T130000
DTSTAMP:20260423T122936
CREATED:20260105T165853Z
LAST-MODIFIED:20260120T195141Z
UID:7406-1772272800-1772283600@fruitfulcommons.org
SUMMARY:Gathering of Growers: Tree Planting at St. John Faith Community Garden
DESCRIPTION:Join us for the first Gathering of Growers of 2026 — a community tree planting workshop at the beautiful St. John Faith Community Garden! \nWe’re partnering with TreeFolks to expand the garden’s young orchard and plant 30 new fruit trees that will nourish this space for years to come. Together\, we’ll learn how to select healthy trees\, prepare soil\, and plant for long-term success\, blending hands-on learning with shared stewardship of the orchard. \nWhether you’re a seasoned grower or brand new to planting\, this event is for you. Come ready to get your hands in the soil\, learn\, and connect with fellow growers and tree experts from across Austin. \n☕ Snacks and hot beverages provided🌳 No experience necessary — all ages welcome!🗣️ Spanish interpretation available💚 Free and open to the public \nRSVP here to secure your spot and help us root the year in growth and community care! \nNote: Bathrooms will not be available on site but are accessible at the Virginia Brown Rec Center across the street at 7500 Blessing Ave. \n—— \n\nÚnete a nosotros para el primer Gathering of Growers de 2026\, un taller comunitario de plantación de árboles en el hermoso Jardín Comunitario St. John Faith. \nNos hemos asociado con TreeFolks para ampliar el joven huerto del jardín y plantar 30 nuevos árboles frutales que nutrirán este espacio durante muchos años. Juntos aprenderemos a seleccionar árboles saludables\, preparar el suelo y plantar para el éxito a largo plazo\, combinando el aprendizaje práctico con el cuidado compartido del huerto. \nYa seas una persona con experiencia cultivando o estés plantando por primera vez\, este evento es para ti. Ven con ganas de ensuciarte las manos\, aprender y conectarte con otras personas que cultivan y con expertos en árboles de todo Austin. \n☕ Se proporcionarán refrigerios y bebidas calientes🌳 No se necesita experiencia previa — todas las edades son bienvenidas🗣️ Habrá interpretación al español💚 Evento gratuito y abierto al público \nConfirma tu asistencia aquí para asegurar tu lugar y ayudarnos a sembrar el año con crecimiento y cuidado comunitario. \nNota: Los baños no estarán disponibles en el lugar\, pero se pueden usar en el Centro Recreativo Virginia Brown al otro lado de la calle en 7500 Blessing Ave.
URL:https://fruitfulcommons.org/event/gathering-of-growers-tree-planting-at-st-john-faith-community-garden/
LOCATION:St. John Faith Community Garden\, 7501 Blessing Ave\, Austin\, 78752
CATEGORIES:Fruitful Commons Events
ORGANIZER;CN="Fruitful Commons":MAILTO:admin@fruitfulcommons.org
END:VEVENT
END:VCALENDAR