BEGIN:VCALENDAR
VERSION:2.0
PRODID:-//Fruitful Commons - ECPv6.15.18//NONSGML v1.0//EN
CALSCALE:GREGORIAN
METHOD:PUBLISH
X-WR-CALNAME:Fruitful Commons
X-ORIGINAL-URL:https://fruitfulcommons.org
X-WR-CALDESC:Events for Fruitful Commons
REFRESH-INTERVAL;VALUE=DURATION:PT1H
X-Robots-Tag:noindex
X-PUBLISHED-TTL:PT1H
BEGIN:VTIMEZONE
TZID:America/Chicago
BEGIN:DAYLIGHT
TZOFFSETFROM:-0600
TZOFFSETTO:-0500
TZNAME:CDT
DTSTART:20240310T080000
END:DAYLIGHT
BEGIN:STANDARD
TZOFFSETFROM:-0500
TZOFFSETTO:-0600
TZNAME:CST
DTSTART:20241103T070000
END:STANDARD
BEGIN:DAYLIGHT
TZOFFSETFROM:-0600
TZOFFSETTO:-0500
TZNAME:CDT
DTSTART:20250309T080000
END:DAYLIGHT
BEGIN:STANDARD
TZOFFSETFROM:-0500
TZOFFSETTO:-0600
TZNAME:CST
DTSTART:20251102T070000
END:STANDARD
BEGIN:DAYLIGHT
TZOFFSETFROM:-0600
TZOFFSETTO:-0500
TZNAME:CDT
DTSTART:20260308T080000
END:DAYLIGHT
BEGIN:STANDARD
TZOFFSETFROM:-0500
TZOFFSETTO:-0600
TZNAME:CST
DTSTART:20261101T070000
END:STANDARD
END:VTIMEZONE
BEGIN:VEVENT
DTSTART;TZID=America/Chicago:20250304T030000
DTEND;TZID=America/Chicago:20250304T060000
DTSTAMP:20260424T105955
CREATED:20250213T223534Z
LAST-MODIFIED:20250213T223534Z
UID:6620-1741057200-1741068000@fruitfulcommons.org
SUMMARY:FBFF-Morning Garden Workday
DESCRIPTION:Event Details\n\nMorning Garden Workday – Festival Beach Food Forest\n  \nHelp us keep the Food Forest vibrant and healthy at our weekly workdays! Come join a small group of food-forest-friends who love to leave the screens behind and put their hands in the dirt. \nPlease bring: \n\nwater\nsturdy shoes\ncomfortable loose fitting clothes\nhat for shade\n\nGloves will be provided. We can’t wait to see you in the Food Forest! (Having trouble with the RSVP? That’s okay\, you’re still welcome to join!) \n\n\n\nAddress\n29 Waller Street\, Austin\, Texas 78702
URL:https://fruitfulcommons.org/event/fbff-morning-garden-workday-13/
LOCATION:Festival Beach Food Forest\, 29 Waller St\, Austin\, TX\, 78702\, United States
CATEGORIES:Festival Beach Food Forest Events
ORGANIZER;CN="Festival Beach Food Forest":MAILTO:contact@festivalbeach.org
END:VEVENT
BEGIN:VEVENT
DTSTART;TZID=America/Chicago:20250306T030000
DTEND;TZID=America/Chicago:20250306T060000
DTSTAMP:20260424T105955
CREATED:20250213T223838Z
LAST-MODIFIED:20250213T223838Z
UID:6622-1741230000-1741240800@fruitfulcommons.org
SUMMARY:FBFF-Morning Garden Workday
DESCRIPTION:Event Details\n\nMorning Garden Workday – Festival Beach Food Forest\n  \nHelp us keep the Food Forest vibrant and healthy at our weekly workdays! Come join a small group of food-forest-friends who love to leave the screens behind and put their hands in the dirt. \nPlease bring: \n\nwater\nsturdy shoes\ncomfortable loose fitting clothes\nhat for shade\n\nGloves will be provided. We can’t wait to see you in the Food Forest! (Having trouble with the RSVP? That’s okay\, you’re still welcome to join!) \n\n\n\nAddress\n29 Waller Street\, Austin\, Texas 78702
URL:https://fruitfulcommons.org/event/fbff-morning-garden-workday-14/
LOCATION:Festival Beach Food Forest\, 29 Waller St\, Austin\, TX\, 78702\, United States
CATEGORIES:Festival Beach Food Forest Events
ORGANIZER;CN="Festival Beach Food Forest":MAILTO:contact@festivalbeach.org
END:VEVENT
BEGIN:VEVENT
DTSTART;TZID=America/Chicago:20250308T030000
DTEND;TZID=America/Chicago:20250308T060000
DTSTAMP:20260424T105955
CREATED:20250204T221238Z
LAST-MODIFIED:20250204T221238Z
UID:6601-1741402800-1741413600@fruitfulcommons.org
SUMMARY:Second Saturday Workday at Festival Beach Food Forest
DESCRIPTION:What to expect:\nVolunteer days at FBFF involve various gardening and site maintenance activities that vary by season. Sometimes we are planting and sowing seeds\, sometimes we are spreading mulch\, working on pathways and irrigation\, pruning or cutting back vegetation\, etc. It’s always a beautiful day and a learning opportunity. Come prepared to be plugged in to a task by the FBFF Plant Team volunteers. \nWhat to bring:\n– Wear work clothes and sturdy closed-toe shoes\n– full water bottle\n– [optional] your own gardening gloves and tools\n– whatever weather protection is needed that day (sun protection\, a rain jacket\, etc.)\n– whatever else you need to be safe and satisfied (snacks\, medication\, EpiPen\, etc) \nPlant Team Volunteers often stay after the work day to unwind and socialize in the park for a bit — you are welcome to join\, and might consider packing a lunch or a cooler (no glass).
URL:https://fruitfulcommons.org/event/second-saturday-workday-at-festival-beach-food-forest-3/
LOCATION:Festival Beach Food Forest\, 29 Waller St\, Austin\, TX\, 78702\, United States
CATEGORIES:Festival Beach Food Forest Events
ORGANIZER;CN="Festival Beach Food Forest":MAILTO:contact@festivalbeach.org
END:VEVENT
BEGIN:VEVENT
DTSTART;TZID=America/Chicago:20250311T040000
DTEND;TZID=America/Chicago:20250311T070000
DTSTAMP:20260424T105955
CREATED:20250213T224002Z
LAST-MODIFIED:20250213T224002Z
UID:6624-1741665600-1741676400@fruitfulcommons.org
SUMMARY:FBFF-Morning Garden Workday
DESCRIPTION:Event Details\n\nMorning Garden Workday – Festival Beach Food Forest\n  \nHelp us keep the Food Forest vibrant and healthy at our weekly workdays! Come join a small group of food-forest-friends who love to leave the screens behind and put their hands in the dirt. \nPlease bring: \n\nwater\nsturdy shoes\ncomfortable loose fitting clothes\nhat for shade\n\nGloves will be provided. We can’t wait to see you in the Food Forest! (Having trouble with the RSVP? That’s okay\, you’re still welcome to join!) \n\n\n\nAddress\n29 Waller Street\, Austin\, Texas 78702
URL:https://fruitfulcommons.org/event/fbff-morning-garden-workday-15/
LOCATION:Festival Beach Food Forest\, 29 Waller St\, Austin\, TX\, 78702\, United States
CATEGORIES:Festival Beach Food Forest Events
ORGANIZER;CN="Festival Beach Food Forest":MAILTO:contact@festivalbeach.org
END:VEVENT
BEGIN:VEVENT
DTSTART;TZID=America/Chicago:20250313T040000
DTEND;TZID=America/Chicago:20250313T070000
DTSTAMP:20260424T105955
CREATED:20250213T224045Z
LAST-MODIFIED:20250213T224045Z
UID:6626-1741838400-1741849200@fruitfulcommons.org
SUMMARY:FBFF-Morning Garden Workday
DESCRIPTION:Event Details\n\nMorning Garden Workday – Festival Beach Food Forest\n  \nHelp us keep the Food Forest vibrant and healthy at our weekly workdays! Come join a small group of food-forest-friends who love to leave the screens behind and put their hands in the dirt. \nPlease bring: \n\nwater\nsturdy shoes\ncomfortable loose fitting clothes\nhat for shade\n\nGloves will be provided. We can’t wait to see you in the Food Forest! (Having trouble with the RSVP? That’s okay\, you’re still welcome to join!) \n\n\n\nAddress\n29 Waller Street\, Austin\, Texas 78702
URL:https://fruitfulcommons.org/event/fbff-morning-garden-workday-16/
LOCATION:Festival Beach Food Forest\, 29 Waller St\, Austin\, TX\, 78702\, United States
CATEGORIES:Festival Beach Food Forest Events
ORGANIZER;CN="Festival Beach Food Forest":MAILTO:contact@festivalbeach.org
END:VEVENT
BEGIN:VEVENT
DTSTART;TZID=America/Chicago:20250318T040000
DTEND;TZID=America/Chicago:20250318T070000
DTSTAMP:20260424T105955
CREATED:20250213T224358Z
LAST-MODIFIED:20250213T224358Z
UID:6628-1742270400-1742281200@fruitfulcommons.org
SUMMARY:FBFF-Morning Garden Workday
DESCRIPTION:Event Details\n\nMorning Garden Workday – Festival Beach Food Forest\n  \nHelp us keep the Food Forest vibrant and healthy at our weekly workdays! Come join a small group of food-forest-friends who love to leave the screens behind and put their hands in the dirt. \nPlease bring: \n\nwater\nsturdy shoes\ncomfortable loose fitting clothes\nhat for shade\n\nGloves will be provided. We can’t wait to see you in the Food Forest! (Having trouble with the RSVP? That’s okay\, you’re still welcome to join!) \n\n\n\nAddress\n29 Waller Street\, Austin\, Texas 78702
URL:https://fruitfulcommons.org/event/fbff-morning-garden-workday-17/
LOCATION:Festival Beach Food Forest\, 29 Waller St\, Austin\, TX\, 78702\, United States
CATEGORIES:Festival Beach Food Forest Events
ORGANIZER;CN="Festival Beach Food Forest":MAILTO:contact@festivalbeach.org
END:VEVENT
BEGIN:VEVENT
DTSTART;TZID=America/Chicago:20250320T040000
DTEND;TZID=America/Chicago:20250320T070000
DTSTAMP:20260424T105955
CREATED:20250213T224758Z
LAST-MODIFIED:20250213T224758Z
UID:6630-1742443200-1742454000@fruitfulcommons.org
SUMMARY:FBFF-Morning Garden Workday
DESCRIPTION:Event Details\n\nMorning Garden Workday – Festival Beach Food Forest\n  \nHelp us keep the Food Forest vibrant and healthy at our weekly workdays! Come join a small group of food-forest-friends who love to leave the screens behind and put their hands in the dirt. \nPlease bring: \n\nwater\nsturdy shoes\ncomfortable loose fitting clothes\nhat for shade\n\nGloves will be provided. We can’t wait to see you in the Food Forest! (Having trouble with the RSVP? That’s okay\, you’re still welcome to join!) \n\n\n\nAddress\n29 Waller Street\, Austin\, Texas 78702
URL:https://fruitfulcommons.org/event/fbff-morning-garden-workday-18/
LOCATION:Festival Beach Food Forest\, 29 Waller St\, Austin\, TX\, 78702\, United States
CATEGORIES:Festival Beach Food Forest Events
ORGANIZER;CN="Festival Beach Food Forest":MAILTO:contact@festivalbeach.org
END:VEVENT
BEGIN:VEVENT
DTSTART;TZID=America/Chicago:20250325T040000
DTEND;TZID=America/Chicago:20250325T070000
DTSTAMP:20260424T105955
CREATED:20250213T225858Z
LAST-MODIFIED:20250213T225858Z
UID:6632-1742875200-1742886000@fruitfulcommons.org
SUMMARY:FBFF-Morning Garden Workday
DESCRIPTION:Event Details\n\nMorning Garden Workday – Festival Beach Food Forest\n  \nHelp us keep the Food Forest vibrant and healthy at our weekly workdays! Come join a small group of food-forest-friends who love to leave the screens behind and put their hands in the dirt. \nPlease bring: \n\nwater\nsturdy shoes\ncomfortable loose fitting clothes\nhat for shade\n\nGloves will be provided. We can’t wait to see you in the Food Forest! (Having trouble with the RSVP? That’s okay\, you’re still welcome to join!) \n\n\n\nAddress\n29 Waller Street\, Austin\, Texas 78702
URL:https://fruitfulcommons.org/event/fbff-morning-garden-workday-19/
LOCATION:Festival Beach Food Forest\, 29 Waller St\, Austin\, TX\, 78702\, United States
CATEGORIES:Festival Beach Food Forest Events
ORGANIZER;CN="Festival Beach Food Forest":MAILTO:contact@festivalbeach.org
END:VEVENT
BEGIN:VEVENT
DTSTART;TZID=America/Chicago:20250327T040000
DTEND;TZID=America/Chicago:20250327T070000
DTSTAMP:20260424T105955
CREATED:20250213T230005Z
LAST-MODIFIED:20250213T230005Z
UID:6634-1743048000-1743058800@fruitfulcommons.org
SUMMARY:FBFF-Morning Garden Workday
DESCRIPTION:Event Details\n\nMorning Garden Workday – Festival Beach Food Forest\n  \nHelp us keep the Food Forest vibrant and healthy at our weekly workdays! Come join a small group of food-forest-friends who love to leave the screens behind and put their hands in the dirt. \nPlease bring: \n\nwater\nsturdy shoes\ncomfortable loose fitting clothes\nhat for shade\n\nGloves will be provided. We can’t wait to see you in the Food Forest! (Having trouble with the RSVP? That’s okay\, you’re still welcome to join!) \n\n\n\nAddress\n29 Waller Street\, Austin\, Texas 78702
URL:https://fruitfulcommons.org/event/fbff-morning-garden-workday-20/
LOCATION:Festival Beach Food Forest\, 29 Waller St\, Austin\, TX\, 78702\, United States
CATEGORIES:Festival Beach Food Forest Events
ORGANIZER;CN="Festival Beach Food Forest":MAILTO:contact@festivalbeach.org
END:VEVENT
END:VCALENDAR