BEGIN:VCALENDAR
VERSION:2.0
PRODID:-//Fruitful Commons - ECPv6.15.18//NONSGML v1.0//EN
CALSCALE:GREGORIAN
METHOD:PUBLISH
X-WR-CALNAME:Fruitful Commons
X-ORIGINAL-URL:https://fruitfulcommons.org
X-WR-CALDESC:Events for Fruitful Commons
REFRESH-INTERVAL;VALUE=DURATION:PT1H
X-Robots-Tag:noindex
X-PUBLISHED-TTL:PT1H
BEGIN:VTIMEZONE
TZID:America/Chicago
BEGIN:DAYLIGHT
TZOFFSETFROM:-0600
TZOFFSETTO:-0500
TZNAME:CDT
DTSTART:20230312T080000
END:DAYLIGHT
BEGIN:STANDARD
TZOFFSETFROM:-0500
TZOFFSETTO:-0600
TZNAME:CST
DTSTART:20231105T070000
END:STANDARD
BEGIN:DAYLIGHT
TZOFFSETFROM:-0600
TZOFFSETTO:-0500
TZNAME:CDT
DTSTART:20240310T080000
END:DAYLIGHT
BEGIN:STANDARD
TZOFFSETFROM:-0500
TZOFFSETTO:-0600
TZNAME:CST
DTSTART:20241103T070000
END:STANDARD
BEGIN:DAYLIGHT
TZOFFSETFROM:-0600
TZOFFSETTO:-0500
TZNAME:CDT
DTSTART:20250309T080000
END:DAYLIGHT
BEGIN:STANDARD
TZOFFSETFROM:-0500
TZOFFSETTO:-0600
TZNAME:CST
DTSTART:20251102T070000
END:STANDARD
END:VTIMEZONE
BEGIN:VEVENT
DTSTART;TZID=America/Chicago:20241221T080000
DTEND;TZID=America/Chicago:20241221T110000
DTSTAMP:20260425T070000
CREATED:20241218T110050Z
LAST-MODIFIED:20241218T222155Z
UID:6505-1734768000-1734778800@fruitfulcommons.org
SUMMARY:Solstice Gathering
DESCRIPTION:The Solstice Gathering at Festival Beach Food Forest is a mix of social and ceremonial with some facilitated connection\, opportunity to share your voice\,  and guided meditation\, visualization\, and intention setting. The goal is to create a healing and fun space for connection and collective intention\, envisioning thriving biodiverse ecosystems (and communities) across the planet. \n\nEvent details:\nDecember 21st 2-5pm\n29 Waller St. Austin\, Tx \n\nTierra Sagrada (meaning sacred earth/land) is a community of Sacred Stewards. We focus on listening to the wisdom of the earth and our ancestors. As sacred stewards\, we aim to re-indigenize our relationship with the natural world and bring spirit back to the land (and landcare).\n\nTogether\, we carry on the traditions of our ancestors as we gather to give thanks to the earth for all she provides\, gracias a la tierra. And to give thanks to Creator for life\, gracias a dios.\n\n\n\n\nWe’ll see you then.\n\n\nRSVP\nQuestions: Feel free to reach out with any questions. Contact: jennajasso@gmail.com.
URL:https://fruitfulcommons.org/event/solstice-gathering/
LOCATION:Festival Beach Food Forest\, 29 Waller St\, Austin\, TX\, 78702\, United States
ORGANIZER;CN="Tierra Sagrada":MAILTO:jennajasso@gmail.com
END:VEVENT
BEGIN:VEVENT
DTSTART;TZID=America/Chicago:20241213T100000
DTEND;TZID=America/Chicago:20241213T133000
DTSTAMP:20260425T070000
CREATED:20241210T222022Z
LAST-MODIFIED:20241218T102527Z
UID:6445-1734084000-1734096600@fruitfulcommons.org
SUMMARY:Gathering of Growers Happy Hour
DESCRIPTION:Join Fruitful Commons and local growers for an evening of connection\, celebration\, and inspiration! Let’s raise a glass to all we accomplished in 2024 and generate a vision for more fruitful collaborations in the new year. \n\nMeet others leading community food-growing initiatives in Central Texas\nLearn how you can get involved with Fruitful Commons and our projects\nGet crafty with an ornament-making activity perfect for holiday season\nSwap seeds\, share stories\, and make new friends!\n\nWe will meet under the beautiful trees at the lively Meanwhile Brewery which features a playground\, food trucks\, and mini-pitch. Children\, family\, and friends are all welcome! This event is FREE for all to attend. \nMeanwhile Brewery\n3901 Promontory Point Dr.\nAustin\, TX 78744 \nThe mushroom block pickup will be hosted by Central Texas Mycological Society and the seed swap will be hosted by Central Texas Seed Savers. A huge thank you to these two groups for supporting Gathering of Growers and to our sponsor\, H-E-B!
URL:https://fruitfulcommons.org/event/gathering-of-growers-happy-hour/
LOCATION:Meanwhile Brewing\, 3901 Promontory Point Dr.\, Austin\, TX - Texas\, 78744\, United States
CATEGORIES:Fruitful Commons Events
ORGANIZER;CN="Fruitful Commons":MAILTO:admin@fruitfulcommons.org
END:VEVENT
END:VCALENDAR