BEGIN:VCALENDAR
VERSION:2.0
PRODID:-//Fruitful Commons - ECPv6.15.18//NONSGML v1.0//EN
CALSCALE:GREGORIAN
METHOD:PUBLISH
X-WR-CALNAME:Fruitful Commons
X-ORIGINAL-URL:https://fruitfulcommons.org
X-WR-CALDESC:Events for Fruitful Commons
REFRESH-INTERVAL;VALUE=DURATION:PT1H
X-Robots-Tag:noindex
X-PUBLISHED-TTL:PT1H
BEGIN:VTIMEZONE
TZID:America/Chicago
BEGIN:DAYLIGHT
TZOFFSETFROM:-0600
TZOFFSETTO:-0500
TZNAME:CDT
DTSTART:20250309T080000
END:DAYLIGHT
BEGIN:STANDARD
TZOFFSETFROM:-0500
TZOFFSETTO:-0600
TZNAME:CST
DTSTART:20251102T070000
END:STANDARD
BEGIN:DAYLIGHT
TZOFFSETFROM:-0600
TZOFFSETTO:-0500
TZNAME:CDT
DTSTART:20260308T080000
END:DAYLIGHT
BEGIN:STANDARD
TZOFFSETFROM:-0500
TZOFFSETTO:-0600
TZNAME:CST
DTSTART:20261101T070000
END:STANDARD
BEGIN:DAYLIGHT
TZOFFSETFROM:-0600
TZOFFSETTO:-0500
TZNAME:CDT
DTSTART:20270314T080000
END:DAYLIGHT
BEGIN:STANDARD
TZOFFSETFROM:-0500
TZOFFSETTO:-0600
TZNAME:CST
DTSTART:20271107T070000
END:STANDARD
END:VTIMEZONE
BEGIN:VEVENT
DTSTART;TZID=America/Chicago:20261003T090000
DTEND;TZID=America/Chicago:20261003T110000
DTSTAMP:20260423T174245
CREATED:20260120T190132Z
LAST-MODIFIED:20260120T190132Z
UID:7557-1791018000-1791025200@fruitfulcommons.org
SUMMARY:Plant Walk - Festival Beach Food Forest
DESCRIPTION:First Saturday Plant Walk – Festival Beach Food Forest \nEvery First Saturday from 9am to 11am we walk among the plants and point out what is growing\, what can be harvested\, how to use the medicinal herbs and invite you to be part of the Food Forest family. It’s a perfect time for people who have never visited to come and check it out\, or for people who have come many times to take home a bag of medicinal herbs and plants to make tea with or add to their meals at home. \nFirst Saturdays are a perfect time to connect with the earth\, find relief and relaxation from the mechanical world and be taken in by the diverse kaleidoscope of our natural and social systems. We want you to find yourselves inside of something larger\, feel the mind-blowing delight from discovering something new about the systems of our earth\, and be humbled by the grace and interconnection of it all. An earthen mandala will be generated from your unique expression as it joins with the whole. \nSchedule:9am Welcome & sign-in9:15am Educational Plant Walk10:45am CommuniTea time \nBring a basket or bag to harvest herbs and plants and a water bottle and other preparations that you might take if you were going on a very gentle trail walk in the hill country. \nSee you at the next First Saturday Plant Walk! \nAddress29 Waller Street\, Austin\, TX 78702 \nSee you at the next First Saturday Plant Walk!
URL:https://fruitfulcommons.org/event/plant-walk-festival-beach-food-forest-8/
LOCATION:29 Waller St\, Austin\, TX\, United States
END:VEVENT
BEGIN:VEVENT
DTSTART;TZID=America/Chicago:20261006T090000
DTEND;TZID=America/Chicago:20261006T100000
DTSTAMP:20260423T174245
CREATED:20260120T190134Z
LAST-MODIFIED:20260120T190134Z
UID:7558-1791277200-1791280800@fruitfulcommons.org
SUMMARY:Morning Workday - FBFF
DESCRIPTION:Help us keep the Food Forest vibrant and healthy at our weekly workdays or Tuesday and Thursday mornings! Come join a small group of food-forest-friends who love to leave the screens behind and put their hands in the dirt. \nPlease bring: \n\nwater\nsturdy shoes\ncomfortable loose fitting clothes\nhat for shade\n\nGloves will be provided. We can’t wait to see you in the Food Forest! (Having trouble with the RSVP? That’s okay\, you’re still welcome to join!) \nAddress \n29 Waller Street\, Austin\, Texas 78702
URL:https://fruitfulcommons.org/event/morning-workday-fbff-74/
LOCATION:29 Waller St\, Austin\, TX\, United States
END:VEVENT
END:VCALENDAR