BEGIN:VCALENDAR
VERSION:2.0
PRODID:-//Fruitful Commons - ECPv6.15.18//NONSGML v1.0//EN
CALSCALE:GREGORIAN
METHOD:PUBLISH
X-WR-CALNAME:Fruitful Commons
X-ORIGINAL-URL:https://fruitfulcommons.org
X-WR-CALDESC:Events for Fruitful Commons
REFRESH-INTERVAL;VALUE=DURATION:PT1H
X-Robots-Tag:noindex
X-PUBLISHED-TTL:PT1H
BEGIN:VTIMEZONE
TZID:America/Chicago
BEGIN:DAYLIGHT
TZOFFSETFROM:-0600
TZOFFSETTO:-0500
TZNAME:CDT
DTSTART:20230312T080000
END:DAYLIGHT
BEGIN:STANDARD
TZOFFSETFROM:-0500
TZOFFSETTO:-0600
TZNAME:CST
DTSTART:20231105T070000
END:STANDARD
BEGIN:DAYLIGHT
TZOFFSETFROM:-0600
TZOFFSETTO:-0500
TZNAME:CDT
DTSTART:20240310T080000
END:DAYLIGHT
BEGIN:STANDARD
TZOFFSETFROM:-0500
TZOFFSETTO:-0600
TZNAME:CST
DTSTART:20241103T070000
END:STANDARD
BEGIN:DAYLIGHT
TZOFFSETFROM:-0600
TZOFFSETTO:-0500
TZNAME:CDT
DTSTART:20250309T080000
END:DAYLIGHT
BEGIN:STANDARD
TZOFFSETFROM:-0500
TZOFFSETTO:-0600
TZNAME:CST
DTSTART:20251102T070000
END:STANDARD
BEGIN:DAYLIGHT
TZOFFSETFROM:-0600
TZOFFSETTO:-0500
TZNAME:CDT
DTSTART:20260308T080000
END:DAYLIGHT
BEGIN:STANDARD
TZOFFSETFROM:-0500
TZOFFSETTO:-0600
TZNAME:CST
DTSTART:20261101T070000
END:STANDARD
END:VTIMEZONE
BEGIN:VEVENT
DTSTART;TZID=America/Chicago:20250128T030000
DTEND;TZID=America/Chicago:20250128T060000
DTSTAMP:20260424T110337
CREATED:20250117T022710Z
LAST-MODIFIED:20250117T022710Z
UID:6575-1738033200-1738044000@fruitfulcommons.org
SUMMARY:FBFF-Morning Garden Workday
DESCRIPTION:Event Details\n\nMorning Garden Workday – Festival Beach Food Forest\n  \nHelp us keep the Food Forest vibrant and healthy at our weekly workdays! Come join a small group of food-forest-friends who love to leave the screens behind and put their hands in the dirt. \nPlease bring: \n\nwater\nsturdy shoes\ncomfortable loose fitting clothes\nhat for shade\n\nGloves will be provided. We can’t wait to see you in the Food Forest! (Having trouble with the RSVP? That’s okay\, you’re still welcome to join!) \n\n\n\nAddress\n29 Waller Street\, Austin\, Texas 78702
URL:https://fruitfulcommons.org/event/fbff-morning-garden-workday-3/
LOCATION:Festival Beach Food Forest\, 29 Waller St\, Austin\, TX\, 78702\, United States
CATEGORIES:Festival Beach Food Forest Events
ORGANIZER;CN="Festival Beach Food Forest":MAILTO:contact@festivalbeach.org
END:VEVENT
BEGIN:VEVENT
DTSTART;TZID=America/Chicago:20250126T040000
DTEND;TZID=America/Chicago:20250126T060000
DTSTAMP:20260424T110337
CREATED:20250107T215227Z
LAST-MODIFIED:20250107T215717Z
UID:6549-1737864000-1737871200@fruitfulcommons.org
SUMMARY:Gathering and Storing Scionwood
DESCRIPTION:Central Texas Seed Savers Presents:\nGathering and Storing Scionwood\nEnhance your fruit tree skills with this free workshop hosted by Central Texas Seed Savers and Vit Kaspar from TreeFolks! Please see below for more information and follow this link to register: Event registration
URL:https://fruitfulcommons.org/event/gathering-and-storing-scionwood/
LOCATION:Festival Beach Food Forest\, 29 Waller St\, Austin\, TX\, 78702\, United States
ORGANIZER;CN="Central Texas Seed Savers":MAILTO:centexseedlibrary@gmail.com
END:VEVENT
BEGIN:VEVENT
DTSTART;TZID=America/Chicago:20250123T030000
DTEND;TZID=America/Chicago:20250123T060000
DTSTAMP:20260424T110337
CREATED:20250117T021904Z
LAST-MODIFIED:20250117T021904Z
UID:6573-1737601200-1737612000@fruitfulcommons.org
SUMMARY:FBFF-Morning Garden Workday
DESCRIPTION:Event Details\n\nMorning Garden Workday – Festival Beach Food Forest\n  \nHelp us keep the Food Forest vibrant and healthy at our weekly workdays! Come join a small group of food-forest-friends who love to leave the screens behind and put their hands in the dirt. \nPlease bring: \n\nwater\nsturdy shoes\ncomfortable loose fitting clothes\nhat for shade\n\nGloves will be provided. We can’t wait to see you in the Food Forest! (Having trouble with the RSVP? That’s okay\, you’re still welcome to join!) \n\n\n\nAddress\n29 Waller Street\, Austin\, Texas 78702
URL:https://fruitfulcommons.org/event/fbff-morning-garden-workday-2/
LOCATION:Festival Beach Food Forest\, 29 Waller St\, Austin\, TX\, 78702\, United States
CATEGORIES:Festival Beach Food Forest Events
ORGANIZER;CN="Festival Beach Food Forest":MAILTO:contact@festivalbeach.org
END:VEVENT
BEGIN:VEVENT
DTSTART;TZID=America/Chicago:20250121T030000
DTEND;TZID=America/Chicago:20250121T060000
DTSTAMP:20260424T110337
CREATED:20250117T021644Z
LAST-MODIFIED:20250117T021753Z
UID:6568-1737428400-1737439200@fruitfulcommons.org
SUMMARY:FBFF-Morning Garden Workday
DESCRIPTION:Event Details\n\nMorning Garden Workday – Festival Beach Food Forest\n  \nHelp us keep the Food Forest vibrant and healthy at our weekly workdays! Come join a small group of food-forest-friends who love to leave the screens behind and put their hands in the dirt. \nPlease bring: \n\nwater\nsturdy shoes\ncomfortable loose fitting clothes\nhat for shade\n\nGloves will be provided. We can’t wait to see you in the Food Forest! (Having trouble with the RSVP? That’s okay\, you’re still welcome to join!) \n\n\n\nAddress\n29 Waller Street\, Austin\, Texas 78702
URL:https://fruitfulcommons.org/event/fbff-morning-garden-workday/
LOCATION:Festival Beach Food Forest\, 29 Waller St\, Austin\, TX\, 78702\, United States
CATEGORIES:Festival Beach Food Forest Events
ORGANIZER;CN="Festival Beach Food Forest":MAILTO:contact@festivalbeach.org
END:VEVENT
BEGIN:VEVENT
DTSTART;TZID=America/Chicago:20250111T030000
DTEND;TZID=America/Chicago:20250111T060000
DTSTAMP:20260424T110337
CREATED:20241218T112229Z
LAST-MODIFIED:20241218T112229Z
UID:6520-1736564400-1736575200@fruitfulcommons.org
SUMMARY:Second Saturday Workday at Festival Beach Food Forest
DESCRIPTION:What to expect:\nVolunteer days at FBFF involve various gardening and site maintenance activities that vary by season. Sometimes we are planting and sowing seeds\, sometimes we are spreading mulch\, working on pathways and irrigation\, pruning or cutting back vegetation\, etc. It’s always a beautiful day and a learning opportunity. Come prepared to be plugged in to a task by the FBFF Plant Team volunteers. \nWhat to bring:\n– Wear work clothes and sturdy closed-toe shoes\n– full water bottle\n– [optional] your own gardening gloves and tools\n– whatever weather protection is needed that day (sun protection\, a rain jacket\, etc.)\n– whatever else you need to be safe and satisfied (snacks\, medication\, EpiPen\, etc) \nPlant Team Volunteers often stay after the work day to unwind and socialize in the park for a bit — you are welcome to join\, and might consider packing a lunch or a cooler (no glass).
URL:https://fruitfulcommons.org/event/second-saturday-workday-at-festival-beach-food-forest/
LOCATION:Festival Beach Food Forest\, 29 Waller St\, Austin\, TX\, 78702\, United States
CATEGORIES:Festival Beach Food Forest Events
ORGANIZER;CN="Festival Beach Food Forest":MAILTO:contact@festivalbeach.org
END:VEVENT
BEGIN:VEVENT
DTSTART;TZID=America/Chicago:20250104T030000
DTEND;TZID=America/Chicago:20250104T050000
DTSTAMP:20260424T110337
CREATED:20241218T111634Z
LAST-MODIFIED:20241218T112336Z
UID:6513-1735959600-1735966800@fruitfulcommons.org
SUMMARY:First Saturday Plant Walk at Festival Beach Food Forest
DESCRIPTION:Event Details\nFirst Saturday Plant Walk – Festival Beach Food Forest\nEvery First Saturday from 9am to 11am we walk among the plants and point out what is growing\, what can be harvested\, how to use the medicinal herbs and invite you to be part of the Food Forest family. It’s a perfect time for people who have never visited to come and check it out\, or for people who have come many times to take home a bag of medicinal herbs and plants to make tea with or add to their meals at home. \nFirst Saturdays are a perfect time to connect with the earth\, find relief and relaxation from the mechanical world and be taken in by the diverse kaleidoscope of our natural and social systems. We want you to find yourselves inside of something larger\, feel the mind-blowing delight from discovering something new about the systems of our earth\, and be humbled by the grace and interconnection of it all. An earthen mandala will be generated from your unique expression as it joins with the whole. \nSchedule:\n9am Welcome & sign-in\n9:15am Educational Plant Walk\n10:45am CommuniTea time\n11:00am Volunteer Orientation \nBring a basket or bag to harvest herbs and plants and a water bottle and other preparations that you might take if you were going on a very gentle trail walk in the hill country. \nSee you at the next First Saturday Plant Walk! \nWhen\nSaturday\, January 4th\, 2025 from 9:00am to 11:00am \nAddress\n29 Waller Street\, Austin\, TX 78702 \nSee you at the next First Saturday Plant Walk!
URL:https://fruitfulcommons.org/event/fbffplantwalk/
LOCATION:Festival Beach Food Forest\, 29 Waller St\, Austin\, TX\, 78702\, United States
CATEGORIES:Festival Beach Food Forest Events
ORGANIZER;CN="Festival Beach Food Forest":MAILTO:contact@festivalbeach.org
END:VEVENT
BEGIN:VEVENT
DTSTART;TZID=America/Chicago:20241221T080000
DTEND;TZID=America/Chicago:20241221T110000
DTSTAMP:20260424T110337
CREATED:20241218T110050Z
LAST-MODIFIED:20241218T222155Z
UID:6505-1734768000-1734778800@fruitfulcommons.org
SUMMARY:Solstice Gathering
DESCRIPTION:The Solstice Gathering at Festival Beach Food Forest is a mix of social and ceremonial with some facilitated connection\, opportunity to share your voice\,  and guided meditation\, visualization\, and intention setting. The goal is to create a healing and fun space for connection and collective intention\, envisioning thriving biodiverse ecosystems (and communities) across the planet. \n\nEvent details:\nDecember 21st 2-5pm\n29 Waller St. Austin\, Tx \n\nTierra Sagrada (meaning sacred earth/land) is a community of Sacred Stewards. We focus on listening to the wisdom of the earth and our ancestors. As sacred stewards\, we aim to re-indigenize our relationship with the natural world and bring spirit back to the land (and landcare).\n\nTogether\, we carry on the traditions of our ancestors as we gather to give thanks to the earth for all she provides\, gracias a la tierra. And to give thanks to Creator for life\, gracias a dios.\n\n\n\n\nWe’ll see you then.\n\n\nRSVP\nQuestions: Feel free to reach out with any questions. Contact: jennajasso@gmail.com.
URL:https://fruitfulcommons.org/event/solstice-gathering/
LOCATION:Festival Beach Food Forest\, 29 Waller St\, Austin\, TX\, 78702\, United States
ORGANIZER;CN="Tierra Sagrada":MAILTO:jennajasso@gmail.com
END:VEVENT
BEGIN:VEVENT
DTSTART;TZID=America/Chicago:20241213T100000
DTEND;TZID=America/Chicago:20241213T133000
DTSTAMP:20260424T110337
CREATED:20241210T222022Z
LAST-MODIFIED:20241218T102527Z
UID:6445-1734084000-1734096600@fruitfulcommons.org
SUMMARY:Gathering of Growers Happy Hour
DESCRIPTION:Join Fruitful Commons and local growers for an evening of connection\, celebration\, and inspiration! Let’s raise a glass to all we accomplished in 2024 and generate a vision for more fruitful collaborations in the new year. \n\nMeet others leading community food-growing initiatives in Central Texas\nLearn how you can get involved with Fruitful Commons and our projects\nGet crafty with an ornament-making activity perfect for holiday season\nSwap seeds\, share stories\, and make new friends!\n\nWe will meet under the beautiful trees at the lively Meanwhile Brewery which features a playground\, food trucks\, and mini-pitch. Children\, family\, and friends are all welcome! This event is FREE for all to attend. \nMeanwhile Brewery\n3901 Promontory Point Dr.\nAustin\, TX 78744 \nThe mushroom block pickup will be hosted by Central Texas Mycological Society and the seed swap will be hosted by Central Texas Seed Savers. A huge thank you to these two groups for supporting Gathering of Growers and to our sponsor\, H-E-B!
URL:https://fruitfulcommons.org/event/gathering-of-growers-happy-hour/
LOCATION:Meanwhile Brewing\, 3901 Promontory Point Dr.\, Austin\, TX - Texas\, 78744\, United States
CATEGORIES:Fruitful Commons Events
ORGANIZER;CN="Fruitful Commons":MAILTO:admin@fruitfulcommons.org
END:VEVENT
END:VCALENDAR